BEGIN:VCALENDAR
VERSION:2.0
PRODID:-//ChamberMaster//Event Calendar 2.0//EN
METHOD:PUBLISH
X-PUBLISHED-TTL:P3D
REFRESH-INTERVAL:P3D
CALSCALE:GREGORIAN
BEGIN:VEVENT
DTSTART:20231012T170000Z
DTEND:20231012T180000Z
X-MICROSOFT-CDO-ALLDAYEVENT:FALSE
SUMMARY:Ambassador Meeting
DESCRIPTION:
X-ALT-DESC;FMTTYPE=text/html:
LOCATION:Pflugerville Chamber of Commerce 101 South 3rd Street Pflugerville\, Texas 78660
UID:e.3302.1023
SEQUENCE:3
DTSTAMP:20260420T113843Z
URL:https://business.pfchamber.com/events/details/ambassador-meeting-1023
END:VEVENT

END:VCALENDAR
